BEGIN:VCALENDAR
VERSION:2.0
PRODID:-//Clotilde Caro Herrera - ECPv6.15.13//NONSGML v1.0//EN
CALSCALE:GREGORIAN
METHOD:PUBLISH
X-WR-CALNAME:Clotilde Caro Herrera
X-ORIGINAL-URL:https://www.clotildecaroherrera.com
X-WR-CALDESC:Eventos para Clotilde Caro Herrera
REFRESH-INTERVAL;VALUE=DURATION:PT1H
X-Robots-Tag:noindex
X-PUBLISHED-TTL:PT1H
BEGIN:VTIMEZONE
TZID:Europe/Madrid
BEGIN:DAYLIGHT
TZOFFSETFROM:+0100
TZOFFSETTO:+0200
TZNAME:CEST
DTSTART:20250330T010000
END:DAYLIGHT
BEGIN:STANDARD
TZOFFSETFROM:+0200
TZOFFSETTO:+0100
TZNAME:CET
DTSTART:20251026T010000
END:STANDARD
BEGIN:DAYLIGHT
TZOFFSETFROM:+0100
TZOFFSETTO:+0200
TZNAME:CEST
DTSTART:20260329T010000
END:DAYLIGHT
BEGIN:STANDARD
TZOFFSETFROM:+0200
TZOFFSETTO:+0100
TZNAME:CET
DTSTART:20261025T010000
END:STANDARD
BEGIN:DAYLIGHT
TZOFFSETFROM:+0100
TZOFFSETTO:+0200
TZNAME:CEST
DTSTART:20270328T010000
END:DAYLIGHT
BEGIN:STANDARD
TZOFFSETFROM:+0200
TZOFFSETTO:+0100
TZNAME:CET
DTSTART:20271031T010000
END:STANDARD
END:VTIMEZONE
BEGIN:VEVENT
DTSTART;TZID=Europe/Madrid:20260425T093000
DTEND;TZID=Europe/Madrid:20260426T133000
DTSTAMP:20260426T025108
CREATED:20251107T054640Z
LAST-MODIFIED:20251107T054640Z
UID:1770-1777109400-1777210200@www.clotildecaroherrera.com
SUMMARY:Curso presencial "La autoestima"
DESCRIPTION:Curso presencial de 12 horas en Pamplona\nLugar: Gimnasio Stylo\nHorario: sábado 9:30-13:30/15:30-19:30\nDomingo: 9:30-13:30\nPrecio: 150€
URL:https://www.clotildecaroherrera.com/evento/curso-presencial-la-autoestima/
CATEGORIES:curso de 12 horas en Pamplona
END:VEVENT
END:VCALENDAR