BEGIN:VCALENDAR
VERSION:2.0
PRODID:-//Clotilde Caro Herrera - ECPv6.15.13//NONSGML v1.0//EN
CALSCALE:GREGORIAN
METHOD:PUBLISH
X-ORIGINAL-URL:https://www.clotildecaroherrera.com
X-WR-CALDESC:Eventos para Clotilde Caro Herrera
REFRESH-INTERVAL;VALUE=DURATION:PT1H
X-Robots-Tag:noindex
X-PUBLISHED-TTL:PT1H
BEGIN:VTIMEZONE
TZID:Europe/Madrid
BEGIN:DAYLIGHT
TZOFFSETFROM:+0100
TZOFFSETTO:+0200
TZNAME:CEST
DTSTART:20250330T010000
END:DAYLIGHT
BEGIN:STANDARD
TZOFFSETFROM:+0200
TZOFFSETTO:+0100
TZNAME:CET
DTSTART:20251026T010000
END:STANDARD
BEGIN:DAYLIGHT
TZOFFSETFROM:+0100
TZOFFSETTO:+0200
TZNAME:CEST
DTSTART:20260329T010000
END:DAYLIGHT
BEGIN:STANDARD
TZOFFSETFROM:+0200
TZOFFSETTO:+0100
TZNAME:CET
DTSTART:20261025T010000
END:STANDARD
BEGIN:DAYLIGHT
TZOFFSETFROM:+0100
TZOFFSETTO:+0200
TZNAME:CEST
DTSTART:20270328T010000
END:DAYLIGHT
BEGIN:STANDARD
TZOFFSETFROM:+0200
TZOFFSETTO:+0100
TZNAME:CET
DTSTART:20271031T010000
END:STANDARD
END:VTIMEZONE
BEGIN:VEVENT
DTSTART;TZID=Europe/Madrid:20260523T093000
DTEND;TZID=Europe/Madrid:20260524T133000
DTSTAMP:20260424T222738
CREATED:20251107T054826Z
LAST-MODIFIED:20260313T054004Z
UID:1772-1779528600-1779629400@www.clotildecaroherrera.com
SUMMARY:Curso presencial "Empezar a constelar"
DESCRIPTION:Curso presencial de 12 horas en Pamplona\nLugar: Gimnasio Stylo\nHorario: sábado 9:30-13:30/15:30-19:30\nDomingo: 9:30-13:30\nPrecio: 150€
URL:https://www.clotildecaroherrera.com/evento/curso-presencial-empezar-a-constelar/
LOCATION:Gimnasio Stylo de mujer\, Baroja Nessi\, 8\, Pamplona
CATEGORIES:curso de 12 horas en Pamplona
END:VEVENT
END:VCALENDAR