BEGIN:VCALENDAR
VERSION:2.0
PRODID:-//Clotilde Caro Herrera - ECPv6.15.13//NONSGML v1.0//EN
CALSCALE:GREGORIAN
METHOD:PUBLISH
X-WR-CALNAME:Clotilde Caro Herrera
X-ORIGINAL-URL:https://www.clotildecaroherrera.com
X-WR-CALDESC:Eventos para Clotilde Caro Herrera
REFRESH-INTERVAL;VALUE=DURATION:PT1H
X-Robots-Tag:noindex
X-PUBLISHED-TTL:PT1H
BEGIN:VTIMEZONE
TZID:Europe/Madrid
BEGIN:DAYLIGHT
TZOFFSETFROM:+0100
TZOFFSETTO:+0200
TZNAME:CEST
DTSTART:20250330T010000
END:DAYLIGHT
BEGIN:STANDARD
TZOFFSETFROM:+0200
TZOFFSETTO:+0100
TZNAME:CET
DTSTART:20251026T010000
END:STANDARD
BEGIN:DAYLIGHT
TZOFFSETFROM:+0100
TZOFFSETTO:+0200
TZNAME:CEST
DTSTART:20260329T010000
END:DAYLIGHT
BEGIN:STANDARD
TZOFFSETFROM:+0200
TZOFFSETTO:+0100
TZNAME:CET
DTSTART:20261025T010000
END:STANDARD
BEGIN:DAYLIGHT
TZOFFSETFROM:+0100
TZOFFSETTO:+0200
TZNAME:CEST
DTSTART:20270328T010000
END:DAYLIGHT
BEGIN:STANDARD
TZOFFSETFROM:+0200
TZOFFSETTO:+0100
TZNAME:CET
DTSTART:20271031T010000
END:STANDARD
END:VTIMEZONE
BEGIN:VEVENT
DTSTART;TZID=Europe/Madrid:20260606T160000
DTEND;TZID=Europe/Madrid:20260607T200000
DTSTAMP:20260425T144815
CREATED:20251106T071444Z
LAST-MODIFIED:20260313T053317Z
UID:1761-1780761600-1780862400@www.clotildecaroherrera.com
SUMMARY:Curso on-line "Reconciliación entre hombres y mujeres"
DESCRIPTION:Curso on-line de 8 horas\nSábado 6 y domingo 7 de junio\nHorario: 16:00-20:00\nPrecio: 80€\nCurso válido para la formación de Insconnsfa
URL:https://www.clotildecaroherrera.com/evento/curso-on-line-reconciliacion-entre-hombres-y-mujeres/
CATEGORIES:Cursos on-line de 8 horas
END:VEVENT
END:VCALENDAR